BEGIN:VCALENDAR
VERSION:2.0
PRODID:-//Pierpont Community &amp; Technical College - ECPv6.15.17.1//NONSGML v1.0//EN
CALSCALE:GREGORIAN
METHOD:PUBLISH
X-WR-CALNAME:Pierpont Community &amp; Technical College
X-ORIGINAL-URL:https://pierpont.edu
X-WR-CALDESC:Events for Pierpont Community &amp; Technical College
REFRESH-INTERVAL;VALUE=DURATION:PT1H
X-Robots-Tag:noindex
X-PUBLISHED-TTL:PT1H
BEGIN:VTIMEZONE
TZID:America/New_York
BEGIN:DAYLIGHT
TZOFFSETFROM:-0500
TZOFFSETTO:-0400
TZNAME:EDT
DTSTART:20240310T070000
END:DAYLIGHT
BEGIN:STANDARD
TZOFFSETFROM:-0400
TZOFFSETTO:-0500
TZNAME:EST
DTSTART:20241103T060000
END:STANDARD
BEGIN:DAYLIGHT
TZOFFSETFROM:-0500
TZOFFSETTO:-0400
TZNAME:EDT
DTSTART:20250309T070000
END:DAYLIGHT
BEGIN:STANDARD
TZOFFSETFROM:-0400
TZOFFSETTO:-0500
TZNAME:EST
DTSTART:20251102T060000
END:STANDARD
BEGIN:DAYLIGHT
TZOFFSETFROM:-0500
TZOFFSETTO:-0400
TZNAME:EDT
DTSTART:20260308T070000
END:DAYLIGHT
BEGIN:STANDARD
TZOFFSETFROM:-0400
TZOFFSETTO:-0500
TZNAME:EST
DTSTART:20261101T060000
END:STANDARD
END:VTIMEZONE
BEGIN:VEVENT
DTSTART;TZID=America/New_York:20251014T100000
DTEND;TZID=America/New_York:20251014T130000
DTSTAMP:20260423T084902
CREATED:20250814T193656Z
LAST-MODIFIED:20251002T152419Z
UID:10000340-1760436000-1760446800@pierpont.edu
SUMMARY:FAFSA Drop-In Help Session
DESCRIPTION:Celebrate National Financial Aid Day by taking an important step toward funding your education! Stop by our FAFSA Drop-In Help Session any time between 11:30 AM and 1:30 PM to get one-on-one support from our Financial Aid staff. \nWhether you’re starting your FAFSA for the first time or just need help with a few tricky sections\, we’re here to assist. No appointment needed—just bring your questions (and any documents you might need)\, and we’ll help you get it done. \nWhat to Bring: \n\n\nYour Social Security Number \n\n\n2023 and/or 2024 tax information (yours and/or your parents’\, if applicable) \n\n2023 tax information for the 2025-2025 Academic Year\, 2024 tax information for the 2026-2027 Academic Year\n\n\n\nFSA ID (if you have one) \n\n\nTake advantage of this opportunity to complete your FAFSA early and stress-free!
URL:https://pierpont.edu/event/fafsa-drop-in-help-session/
LOCATION:Advanced Technology Center\, 500 Galliher Drive\, Fairmont\, WV\, 26554\, United States
CATEGORIES:Student Events
ATTACH;FMTTYPE=image/png:https://pierpont.edu/wp-content/uploads/2025/08/Events-FAFSA-Calendar-2.png
ORGANIZER;CN="Student Services":MAILTO:studentservices@pierpont.edu
END:VEVENT
END:VCALENDAR