BEGIN:VCALENDAR
VERSION:2.0
PRODID:-//Pierpont Community &amp; Technical College - ECPv6.15.17.1//NONSGML v1.0//EN
CALSCALE:GREGORIAN
METHOD:PUBLISH
X-ORIGINAL-URL:https://pierpont.edu
X-WR-CALDESC:Events for Pierpont Community &amp; Technical College
REFRESH-INTERVAL;VALUE=DURATION:PT1H
X-Robots-Tag:noindex
X-PUBLISHED-TTL:PT1H
BEGIN:VTIMEZONE
TZID:America/New_York
BEGIN:DAYLIGHT
TZOFFSETFROM:-0500
TZOFFSETTO:-0400
TZNAME:EDT
DTSTART:20250309T070000
END:DAYLIGHT
BEGIN:STANDARD
TZOFFSETFROM:-0400
TZOFFSETTO:-0500
TZNAME:EST
DTSTART:20251102T060000
END:STANDARD
BEGIN:DAYLIGHT
TZOFFSETFROM:-0500
TZOFFSETTO:-0400
TZNAME:EDT
DTSTART:20260308T070000
END:DAYLIGHT
BEGIN:STANDARD
TZOFFSETFROM:-0400
TZOFFSETTO:-0500
TZNAME:EST
DTSTART:20261101T060000
END:STANDARD
BEGIN:DAYLIGHT
TZOFFSETFROM:-0500
TZOFFSETTO:-0400
TZNAME:EDT
DTSTART:20270314T070000
END:DAYLIGHT
BEGIN:STANDARD
TZOFFSETFROM:-0400
TZOFFSETTO:-0500
TZNAME:EST
DTSTART:20271107T060000
END:STANDARD
END:VTIMEZONE
BEGIN:VEVENT
DTSTART;TZID=America/New_York:20260429T120000
DTEND;TZID=America/New_York:20260429T130000
DTSTAMP:20260424T171735
CREATED:20260421T182616Z
LAST-MODIFIED:20260421T182617Z
UID:10001260-1777464000-1777467600@pierpont.edu
SUMMARY:Interview Skills Workshop
DESCRIPTION:The Student Government Association (SGA) and Dr. Campbell invite you to an Interview Skills Workshop designed to help you stand out to employers. \n\n\n\nGain confidence through structured guidance\, practice with mock interviews\, and get your specific questions answered in our Q&A session. \n\n\n\nWednesday\, April 29\, 2026 | 12:00 – 1:00 PM \n\n\n\nATC 216B \n\n\n\nLunch will be provided!
URL:https://pierpont.edu/event/interview-skills-workshop/
CATEGORIES:Student Events
ATTACH;FMTTYPE=image/png:https://pierpont.edu/wp-content/uploads/2026/04/interview-skills.png
END:VEVENT
BEGIN:VEVENT
DTSTART;TZID=America/New_York:20260429T120000
DTEND;TZID=America/New_York:20260429T130000
DTSTAMP:20260424T171735
CREATED:20260424T145108Z
LAST-MODIFIED:20260424T145109Z
UID:10001258-1777464000-1777467600@pierpont.edu
SUMMARY:SGA LEARN- Interview Workshop
DESCRIPTION:Join us on Wednesday\, April 29th from 12–1 PM in Room 216B\, ATC for a hands-on workshop designed to help you build confidence and sharpen your interview skills. Practice common questions\, get real-time feedback\, and learn how to stand out. \nLunch provided—come learn and eat!
URL:https://pierpont.edu/event/sga-learn-interview-workshop/
LOCATION:Advanced Technology Center\, 500 Galliher Drive\, Fairmont\, WV\, 26554\, United States
CATEGORIES:Student Events,Student Organizations
ORGANIZER;CN="Student Government Association":MAILTO:studentgovernment@pierpont.edu
END:VEVENT
BEGIN:VEVENT
DTSTART;TZID=America/New_York:20260429T150000
DTEND;TZID=America/New_York:20260429T170000
DTSTAMP:20260424T171735
CREATED:20260421T182817Z
LAST-MODIFIED:20260421T182835Z
UID:10001261-1777474800-1777482000@pierpont.edu
SUMMARY:Spring Into Stories: Child Literacy Event
DESCRIPTION:Join the Pierpont Student Government and the Early Childhood program for an afternoon of storytelling and fun! We’re hosting a spring-themed literacy event for young children\, featuring interactive read-alouds and engaging activities. \n\n\n\nWednesday\, April 29 | 3:00 – 5:00 PM \n\n\n\nAdvanced Technology Center \n\n\n\nBring your little ones for a day of imagination and learning!
URL:https://pierpont.edu/event/spring-into-stories-child-literacy-event/
CATEGORIES:Community Events
ATTACH;FMTTYPE=image/png:https://pierpont.edu/wp-content/uploads/2026/04/87.png
END:VEVENT
BEGIN:VEVENT
DTSTART;TZID=America/New_York:20260430T110000
DTEND;TZID=America/New_York:20260430T130000
DTSTAMP:20260424T171735
CREATED:20260326T184708Z
LAST-MODIFIED:20260407T191105Z
UID:10001249-1777546800-1777554000@pierpont.edu
SUMMARY:Dog Days
DESCRIPTION:MEET ADOPTABLE DOGS FROM THE HUMANE SOCIETY! \n\n\n\n\n\nCuddle with some furry friends\nDiscover the magic of adoption\nMeet your new four-legged BFF\nSupport your local humane society\nConnect with the community\n\nHosted by Pierpont’s Student Government Association
URL:https://pierpont.edu/event/dog-days/
ATTACH;FMTTYPE=image/png:https://pierpont.edu/wp-content/uploads/2026/03/Dog-Days.png
ORGANIZER;CN="Student Government Association":MAILTO:studentgovernment@pierpont.edu
END:VEVENT
BEGIN:VEVENT
DTSTART;TZID=America/New_York:20260501T200000
DTEND;TZID=America/New_York:20260501T220000
DTSTAMP:20260424T171735
CREATED:20260424T145114Z
LAST-MODIFIED:20260424T145115Z
UID:10001259-1777665600-1777672800@pierpont.edu
SUMMARY:Pierpont SGA Night at the WVU Planetarium
DESCRIPTION:Pierpont Student Government Association has reserved 10 student seats for the WVU Planetarium event on May 1 at 8 PM. Spots are limited and will be filled on a first-come\, first-served basis\, so be sure to complete the form to reserve yours. Please note that transportation to the Planetarium is not provided.\n\nRSVP HERE
URL:https://pierpont.edu/event/pierpont-sga-night-at-the-wvu-planetarium/
CATEGORIES:Student Events,Student Organizations
END:VEVENT
END:VCALENDAR